BEGIN:VCALENDAR
VERSION:2.0
PRODID:-//Southwest Initiative Foundation - ECPv6.15.18//NONSGML v1.0//EN
CALSCALE:GREGORIAN
METHOD:PUBLISH
X-ORIGINAL-URL:https://swifoundation.org
X-WR-CALDESC:Events for Southwest Initiative Foundation
REFRESH-INTERVAL;VALUE=DURATION:PT1H
X-Robots-Tag:noindex
X-PUBLISHED-TTL:PT1H
BEGIN:VTIMEZONE
TZID:America/Chicago
BEGIN:DAYLIGHT
TZOFFSETFROM:-0600
TZOFFSETTO:-0500
TZNAME:CDT
DTSTART:20250309T080000
END:DAYLIGHT
BEGIN:STANDARD
TZOFFSETFROM:-0500
TZOFFSETTO:-0600
TZNAME:CST
DTSTART:20251102T070000
END:STANDARD
BEGIN:DAYLIGHT
TZOFFSETFROM:-0600
TZOFFSETTO:-0500
TZNAME:CDT
DTSTART:20260308T080000
END:DAYLIGHT
BEGIN:STANDARD
TZOFFSETFROM:-0500
TZOFFSETTO:-0600
TZNAME:CST
DTSTART:20261101T070000
END:STANDARD
BEGIN:DAYLIGHT
TZOFFSETFROM:-0600
TZOFFSETTO:-0500
TZNAME:CDT
DTSTART:20270314T080000
END:DAYLIGHT
BEGIN:STANDARD
TZOFFSETFROM:-0500
TZOFFSETTO:-0600
TZNAME:CST
DTSTART:20271107T070000
END:STANDARD
END:VTIMEZONE
BEGIN:VEVENT
DTSTART;TZID=America/Chicago:20260623T073000
DTEND;TZID=America/Chicago:20260623T090000
DTSTAMP:20260420T064737
CREATED:20260212T161600Z
LAST-MODIFIED:20260331T142104Z
UID:10001131-1782199800-1782205200@swifoundation.org
SUMMARY:40th Anniversary Celebration: Swift County
DESCRIPTION:You’re invited!\n\n\n\nCome celebrate Southwest Initiative Foundation’s 40th Anniversary by enjoying breakfast at the Benson Bakery. \n\n\n\nThis is a come-and-go event. Stop by when you can to say hello to SWIF staff\, connect with neighbors and community members\, and check the Benson Bakery in Benson. \n\n\n\n\nRSVP to help us plan\n\n\n\n\nQuestions? Email Meghan Laffen or call (320) 326-8984.
URL:https://swifoundation.org/event/40th-anniversary-celebration-swift-county/
LOCATION:Benson Bakery\, 1305 Pacific Ave\, Benson\, Minnesota\, 55350
ATTACH;FMTTYPE=image/png:https://swifoundation.org/wp-content/uploads/2026/03/40th-County-Events-8-1024x768-1.png
ORGANIZER;CN="Southwest Initiative Foundation":MAILTO:info@swifoundation.org
GEO:45.3139388;-95.6010841
X-APPLE-STRUCTURED-LOCATION;VALUE=URI;X-ADDRESS=Benson Bakery 1305 Pacific Ave Benson Minnesota 55350;X-APPLE-RADIUS=500;X-TITLE=1305 Pacific Ave:geo:-95.6010841,45.3139388
END:VEVENT
END:VCALENDAR